BEGIN:VCALENDAR
VERSION:2.0
PRODID:-//Epilepsieberatung in Bayern - ECPv6.15.20//NONSGML v1.0//EN
CALSCALE:GREGORIAN
METHOD:PUBLISH
X-WR-CALNAME:Epilepsieberatung in Bayern
X-ORIGINAL-URL:https://epilepsieberatung-bayern.de
X-WR-CALDESC:Veranstaltungen für Epilepsieberatung in Bayern
REFRESH-INTERVAL;VALUE=DURATION:PT1H
X-Robots-Tag:noindex
X-PUBLISHED-TTL:PT1H
BEGIN:VTIMEZONE
TZID:Europe/Berlin
BEGIN:DAYLIGHT
TZOFFSETFROM:+0100
TZOFFSETTO:+0200
TZNAME:CEST
DTSTART:20250330T010000
END:DAYLIGHT
BEGIN:STANDARD
TZOFFSETFROM:+0200
TZOFFSETTO:+0100
TZNAME:CET
DTSTART:20251026T010000
END:STANDARD
BEGIN:DAYLIGHT
TZOFFSETFROM:+0100
TZOFFSETTO:+0200
TZNAME:CEST
DTSTART:20260329T010000
END:DAYLIGHT
BEGIN:STANDARD
TZOFFSETFROM:+0200
TZOFFSETTO:+0100
TZNAME:CET
DTSTART:20261025T010000
END:STANDARD
BEGIN:DAYLIGHT
TZOFFSETFROM:+0100
TZOFFSETTO:+0200
TZNAME:CEST
DTSTART:20270328T010000
END:DAYLIGHT
BEGIN:STANDARD
TZOFFSETFROM:+0200
TZOFFSETTO:+0100
TZNAME:CET
DTSTART:20271031T010000
END:STANDARD
END:VTIMEZONE
BEGIN:VEVENT
DTSTART;TZID=Europe/Berlin:20260618T140000
DTEND;TZID=Europe/Berlin:20260618T170000
DTSTAMP:20260419T150234
CREATED:20260417T160655Z
LAST-MODIFIED:20260417T160655Z
UID:5252-1781791200-1781802000@epilepsieberatung-bayern.de
SUMMARY:Nur für Fachpersonal: Online-Grundlagenschulung zum Umgang mit Epilepsien
DESCRIPTION:Zielgruppe: Mitarbeitende aus Schulen\, Kindertagesstätten\, Beratungsstellen\, Einrichtungen der Behindertenhilfe oder anderer Institutionen \nInhalt der dreistündigen Fortbildung wird sein: \n\nGrundlagen zu Epilepsie und ihren verschiedenen Krankheitsbildern\n\nAnfallsformen\nUrsachen\nAuslösekonstellationen\n\n\nVerhalten bei einem epileptischen Anfall\n(rechtlicher) Umgang mit Bedarfsmedikation\nOptional: Was ist am Arbeitsplatz zu beachten\, Besonderheiten bei Kindern\, Besonderheiten bei Menschen mit Behinderungen\nNotfalldokumentation\nOffene Fragen\n\nAnmeldung: oa-nbg@rummelsberger.net  \nWeitere Informationen zur Schulung finden Sie auf unserer Homepage.
URL:https://epilepsieberatung-bayern.de/veranstaltung/nur-fuer-fachpersonal-online-grundlagenschulung-zum-umgang-mit-epilepsien/
LOCATION:Online über BigBlueButton
CATEGORIES:Nürnberg
ORGANIZER;CN="Epilepsieberatung N%C3%BCrnberg":MAILTO:epilepsie-beratung@rummelsberger.net
END:VEVENT
BEGIN:VEVENT
DTSTART;TZID=Europe/Berlin:20260630T190000
DTEND;TZID=Europe/Berlin:20260630T203000
DTSTAMP:20260419T150234
CREATED:20260417T155634Z
LAST-MODIFIED:20260417T160135Z
UID:5246-1782846000-1782851400@epilepsieberatung-bayern.de
SUMMARY:Online-Abend „Couch TALK“
DESCRIPTION:Die Psychosoziale Beratungsstelle für Menschen mit Epilepsie Mittelfranken lädt Erwachsene mit Epilepsie zu einem Offenen Abend ein\, an dem Sie – ganz bequem von zu Hause\, quasi von der Couch aus – teilnehmen können. Der Couch TALK findet mit Kamera und Mikrofon statt. Wir verwenden dafür das datenschutzkonforme Programm BigBlueButton. \nDie Teilnehmenden legen die Themen gerne selber fest. \nDie Teilnehmerzahl ist begrenzt. Eine Anmeldung bis zum 28.06.2026 ist unbedingt erforderlich unter\noa-nbg@rummelsberger.net Nach der Anmeldefrist erhalten Sie Informationen zum Log-in. \nVoraussetzung für die Teilnahme: aktueller Browser „Chrome“ oder „Firefox“\, PC\, Laptop oder Tablet\, stabiles Netz.
URL:https://epilepsieberatung-bayern.de/veranstaltung/online-abend-couch-talk-2/
LOCATION:Online über BigBlueButton
CATEGORIES:Nürnberg
ORGANIZER;CN="Epilepsieberatung N%C3%BCrnberg":MAILTO:epilepsie-beratung@rummelsberger.net
END:VEVENT
END:VCALENDAR